BEGIN:VCALENDAR
VERSION:2.0
PRODID:-//West Lafayette Bands - ECPv6.15.20//NONSGML v1.0//EN
CALSCALE:GREGORIAN
METHOD:PUBLISH
X-ORIGINAL-URL:https://wlbands.com
X-WR-CALDESC:Events for West Lafayette Bands
REFRESH-INTERVAL;VALUE=DURATION:PT1H
X-Robots-Tag:noindex
X-PUBLISHED-TTL:PT1H
BEGIN:VTIMEZONE
TZID:America/Indiana/Indianapolis
BEGIN:DAYLIGHT
TZOFFSETFROM:-0500
TZOFFSETTO:-0400
TZNAME:EDT
DTSTART:20240310T070000
END:DAYLIGHT
BEGIN:STANDARD
TZOFFSETFROM:-0400
TZOFFSETTO:-0500
TZNAME:EST
DTSTART:20241103T060000
END:STANDARD
BEGIN:DAYLIGHT
TZOFFSETFROM:-0500
TZOFFSETTO:-0400
TZNAME:EDT
DTSTART:20250309T070000
END:DAYLIGHT
BEGIN:STANDARD
TZOFFSETFROM:-0400
TZOFFSETTO:-0500
TZNAME:EST
DTSTART:20251102T060000
END:STANDARD
BEGIN:DAYLIGHT
TZOFFSETFROM:-0500
TZOFFSETTO:-0400
TZNAME:EDT
DTSTART:20260308T070000
END:DAYLIGHT
BEGIN:STANDARD
TZOFFSETFROM:-0400
TZOFFSETTO:-0500
TZNAME:EST
DTSTART:20261101T060000
END:STANDARD
END:VTIMEZONE
BEGIN:VEVENT
DTSTART;TZID=America/Indiana/Indianapolis:20250426T090000
DTEND;TZID=America/Indiana/Indianapolis:20250426T143000
DTSTAMP:20260424T162059
CREATED:20240922T223249Z
LAST-MODIFIED:20240922T223249Z
UID:10002530-1745658000-1745677800@wlbands.com
SUMMARY:Junior High Clinic and Concert
DESCRIPTION:
URL:https://wlbands.com/event/junior-high-clinic-and-concert/
LOCATION:Howenstein Auditorium\, 1105 N Grant Street\, West Lafayette\, IN\, 47906\, United States
CATEGORIES:7th Grade Band,8th Grade Band
END:VEVENT
END:VCALENDAR