BEGIN:VCALENDAR
VERSION:2.0
PRODID:-//West Lafayette Bands - ECPv6.15.20//NONSGML v1.0//EN
CALSCALE:GREGORIAN
METHOD:PUBLISH
X-ORIGINAL-URL:https://wlbands.com
X-WR-CALDESC:Events for West Lafayette Bands
REFRESH-INTERVAL;VALUE=DURATION:PT1H
X-Robots-Tag:noindex
X-PUBLISHED-TTL:PT1H
BEGIN:VTIMEZONE
TZID:America/Indiana/Indianapolis
BEGIN:DAYLIGHT
TZOFFSETFROM:-0500
TZOFFSETTO:-0400
TZNAME:EDT
DTSTART:20250309T070000
END:DAYLIGHT
BEGIN:STANDARD
TZOFFSETFROM:-0400
TZOFFSETTO:-0500
TZNAME:EST
DTSTART:20251102T060000
END:STANDARD
BEGIN:DAYLIGHT
TZOFFSETFROM:-0500
TZOFFSETTO:-0400
TZNAME:EDT
DTSTART:20260308T070000
END:DAYLIGHT
BEGIN:STANDARD
TZOFFSETFROM:-0400
TZOFFSETTO:-0500
TZNAME:EST
DTSTART:20261101T060000
END:STANDARD
BEGIN:DAYLIGHT
TZOFFSETFROM:-0500
TZOFFSETTO:-0400
TZNAME:EDT
DTSTART:20270314T070000
END:DAYLIGHT
BEGIN:STANDARD
TZOFFSETFROM:-0400
TZOFFSETTO:-0500
TZNAME:EST
DTSTART:20271107T060000
END:STANDARD
END:VTIMEZONE
BEGIN:VEVENT
DTSTART;VALUE=DATE:20260207
DTEND;VALUE=DATE:20260208
DTSTAMP:20260423T191518
CREATED:20260103T173144Z
LAST-MODIFIED:20260103T174200Z
UID:10002663-1770422400-1770508799@wlbands.com
SUMMARY:Solo & Ensemble Contest
DESCRIPTION:Required Event for 7th & 8th Grade Ensembles \nVoluntary Event for All Others \n@ William H. Harrison HS
URL:https://wlbands.com/event/solo-ensemble-contest/
LOCATION:William H. Harrison HS\, 5701 N. 50 W\, West Lafayette\, IN\, 47906
CATEGORIES:5th Grade Band,6th Grade Band,7th Grade Band,8th Grade Band,Symphonic Band,Wind Ensemble,WL Performances Only
END:VEVENT
BEGIN:VEVENT
DTSTART;VALUE=DATE:20260228
DTEND;VALUE=DATE:20260301
DTSTAMP:20260423T191518
CREATED:20260103T174720Z
LAST-MODIFIED:20260103T174720Z
UID:10002664-1772236800-1772323199@wlbands.com
SUMMARY:State Solo & Ensemble
DESCRIPTION:For any Group I Solo & Ensemble events that received a Gold Rating (usually Grades 7-12 only) \n@ North Central HS (Winds) \n@ Westfield MS (Percussion)
URL:https://wlbands.com/event/state-solo-ensemble/
CATEGORIES:5th Grade Band,6th Grade Band,7th Grade Band,8th Grade Band,Symphonic Band,Wind Ensemble,WL Performances Only
END:VEVENT
END:VCALENDAR