BEGIN:VCALENDAR
VERSION:2.0
PRODID:-//West Lafayette Bands - ECPv6.15.20//NONSGML v1.0//EN
CALSCALE:GREGORIAN
METHOD:PUBLISH
X-WR-CALNAME:West Lafayette Bands
X-ORIGINAL-URL:https://wlbands.com
X-WR-CALDESC:Events for West Lafayette Bands
REFRESH-INTERVAL;VALUE=DURATION:PT1H
X-Robots-Tag:noindex
X-PUBLISHED-TTL:PT1H
BEGIN:VTIMEZONE
TZID:America/Indiana/Indianapolis
BEGIN:DAYLIGHT
TZOFFSETFROM:-0500
TZOFFSETTO:-0400
TZNAME:EDT
DTSTART:20240310T070000
END:DAYLIGHT
BEGIN:STANDARD
TZOFFSETFROM:-0400
TZOFFSETTO:-0500
TZNAME:EST
DTSTART:20241103T060000
END:STANDARD
BEGIN:DAYLIGHT
TZOFFSETFROM:-0500
TZOFFSETTO:-0400
TZNAME:EDT
DTSTART:20250309T070000
END:DAYLIGHT
BEGIN:STANDARD
TZOFFSETFROM:-0400
TZOFFSETTO:-0500
TZNAME:EST
DTSTART:20251102T060000
END:STANDARD
BEGIN:DAYLIGHT
TZOFFSETFROM:-0500
TZOFFSETTO:-0400
TZNAME:EDT
DTSTART:20260308T070000
END:DAYLIGHT
BEGIN:STANDARD
TZOFFSETFROM:-0400
TZOFFSETTO:-0500
TZNAME:EST
DTSTART:20261101T060000
END:STANDARD
END:VTIMEZONE
BEGIN:VEVENT
DTSTART;VALUE=DATE:20250510
DTEND;VALUE=DATE:20250511
DTSTAMP:20260424T091826
CREATED:20240922T224044Z
LAST-MODIFIED:20240922T224044Z
UID:10002534-1746835200-1746921599@wlbands.com
SUMMARY:ISSMA State Finals (If Qualified)
DESCRIPTION:
URL:https://wlbands.com/event/issma-state-finals-if-qualified/
LOCATION:Lawrence Central High School\, 7300 E 56th St\, Indianapolis\, IN\, 46226\, United States
CATEGORIES:Wind Ensemble
END:VEVENT
END:VCALENDAR