BEGIN:VCALENDAR
VERSION:2.0
PRODID:-//West Lafayette Bands - ECPv6.15.20//NONSGML v1.0//EN
CALSCALE:GREGORIAN
METHOD:PUBLISH
X-WR-CALNAME:West Lafayette Bands
X-ORIGINAL-URL:https://wlbands.com
X-WR-CALDESC:Events for West Lafayette Bands
REFRESH-INTERVAL;VALUE=DURATION:PT1H
X-Robots-Tag:noindex
X-PUBLISHED-TTL:PT1H
BEGIN:VTIMEZONE
TZID:America/Indiana/Indianapolis
BEGIN:DAYLIGHT
TZOFFSETFROM:-0500
TZOFFSETTO:-0400
TZNAME:EDT
DTSTART:20250309T070000
END:DAYLIGHT
BEGIN:STANDARD
TZOFFSETFROM:-0400
TZOFFSETTO:-0500
TZNAME:EST
DTSTART:20251102T060000
END:STANDARD
BEGIN:DAYLIGHT
TZOFFSETFROM:-0500
TZOFFSETTO:-0400
TZNAME:EDT
DTSTART:20260308T070000
END:DAYLIGHT
BEGIN:STANDARD
TZOFFSETFROM:-0400
TZOFFSETTO:-0500
TZNAME:EST
DTSTART:20261101T060000
END:STANDARD
BEGIN:DAYLIGHT
TZOFFSETFROM:-0500
TZOFFSETTO:-0400
TZNAME:EDT
DTSTART:20270314T070000
END:DAYLIGHT
BEGIN:STANDARD
TZOFFSETFROM:-0400
TZOFFSETTO:-0500
TZNAME:EST
DTSTART:20271107T060000
END:STANDARD
END:VTIMEZONE
BEGIN:VEVENT
DTSTART;TZID=America/Indiana/Indianapolis:20260302T160000
DTEND;TZID=America/Indiana/Indianapolis:20260302T173000
DTSTAMP:20260423T175212
CREATED:20260103T171312Z
LAST-MODIFIED:20260103T171312Z
UID:10002651-1772467200-1772472600@wlbands.com
SUMMARY:Winter Perc Rehearsal
DESCRIPTION:Tech/Show Week for Musical
URL:https://wlbands.com/event/winter-perc-rehearsal-4/2026-03-02/
CATEGORIES:Winter Percussion
END:VEVENT
BEGIN:VEVENT
DTSTART;TZID=America/Indiana/Indianapolis:20260304T160000
DTEND;TZID=America/Indiana/Indianapolis:20260304T173000
DTSTAMP:20260423T175212
CREATED:20260103T171312Z
LAST-MODIFIED:20260103T171312Z
UID:10002652-1772640000-1772645400@wlbands.com
SUMMARY:Winter Perc Rehearsal
DESCRIPTION:Tech/Show Week for Musical
URL:https://wlbands.com/event/winter-perc-rehearsal-4/2026-03-04/
CATEGORIES:Winter Percussion
END:VEVENT
BEGIN:VEVENT
DTSTART;TZID=America/Indiana/Indianapolis:20260309T183000
DTEND;TZID=America/Indiana/Indianapolis:20260309T203000
DTSTAMP:20260423T175212
CREATED:20260103T171657Z
LAST-MODIFIED:20260103T172503Z
UID:10002653-1773081000-1773088200@wlbands.com
SUMMARY:Winter Perc Rehearsal
DESCRIPTION:Update Times after musical
URL:https://wlbands.com/event/winter-perc-rehearsal-5/2026-03-09/
CATEGORIES:Winter Percussion
END:VEVENT
BEGIN:VEVENT
DTSTART;TZID=America/Indiana/Indianapolis:20260311T183000
DTEND;TZID=America/Indiana/Indianapolis:20260311T203000
DTSTAMP:20260423T175212
CREATED:20260103T171657Z
LAST-MODIFIED:20260103T172503Z
UID:10002654-1773253800-1773261000@wlbands.com
SUMMARY:Winter Perc Rehearsal
DESCRIPTION:Update Times after musical
URL:https://wlbands.com/event/winter-perc-rehearsal-5/2026-03-11/
CATEGORIES:Winter Percussion
END:VEVENT
BEGIN:VEVENT
DTSTART;TZID=America/Indiana/Indianapolis:20260320T173000
DTEND;TZID=America/Indiana/Indianapolis:20260320T203000
DTSTAMP:20260423T175212
CREATED:20260103T171657Z
LAST-MODIFIED:20260103T172503Z
UID:10002655-1774027800-1774038600@wlbands.com
SUMMARY:Winter Perc Rehearsal
DESCRIPTION:Update Times after musical
URL:https://wlbands.com/event/winter-perc-rehearsal-5/2026-03-20/
CATEGORIES:Winter Percussion
END:VEVENT
BEGIN:VEVENT
DTSTART;VALUE=DATE:20260321
DTEND;VALUE=DATE:20260322
DTSTAMP:20260423T175212
CREATED:20260103T172104Z
LAST-MODIFIED:20260103T172104Z
UID:10002661-1774051200-1774137599@wlbands.com
SUMMARY:IPA State Prelims @ Avon HS
DESCRIPTION:
URL:https://wlbands.com/event/ipa-state-prelims-avon-hs/
CATEGORIES:Winter Percussion
END:VEVENT
BEGIN:VEVENT
DTSTART;TZID=America/Indiana/Indianapolis:20260323T183000
DTEND;TZID=America/Indiana/Indianapolis:20260323T203000
DTSTAMP:20260423T175212
CREATED:20260103T171657Z
LAST-MODIFIED:20260103T172503Z
UID:10002656-1774290600-1774297800@wlbands.com
SUMMARY:Winter Perc Rehearsal
DESCRIPTION:Update Times after musical
URL:https://wlbands.com/event/winter-perc-rehearsal-5/2026-03-23/
CATEGORIES:Winter Percussion
END:VEVENT
BEGIN:VEVENT
DTSTART;TZID=America/Indiana/Indianapolis:20260324T173000
DTEND;TZID=America/Indiana/Indianapolis:20260324T193000
DTSTAMP:20260423T175212
CREATED:20260323T180542Z
LAST-MODIFIED:20260323T180542Z
UID:10002736-1774373400-1774380600@wlbands.com
SUMMARY:Winter Perc Rehearsal
DESCRIPTION:
URL:https://wlbands.com/event/winter-perc-rehearsal-7/
CATEGORIES:Winter Percussion
END:VEVENT
BEGIN:VEVENT
DTSTART;TZID=America/Indiana/Indianapolis:20260325T180000
DTEND;TZID=America/Indiana/Indianapolis:20260325T193000
DTSTAMP:20260423T175212
CREATED:20260103T172706Z
LAST-MODIFIED:20260323T180919Z
UID:10002657-1774461600-1774467000@wlbands.com
SUMMARY:Winter Perc Rehearsal
DESCRIPTION:Update Times after musical
URL:https://wlbands.com/event/winter-perc-rehearsal-5-2/
CATEGORIES:Winter Percussion
END:VEVENT
BEGIN:VEVENT
DTSTART;TZID=America/Indiana/Indianapolis:20260325T193000
DTEND;TZID=America/Indiana/Indianapolis:20260325T203000
DTSTAMP:20260423T175212
CREATED:20260103T171827Z
LAST-MODIFIED:20260103T193206Z
UID:10002658-1774467000-1774470600@wlbands.com
SUMMARY:WL Percussion Showcase
DESCRIPTION:A Showcase Concert featuring WL Percussion Students and the WL Winter Percussion Ensemble
URL:https://wlbands.com/event/wl-percussion-showcase/
CATEGORIES:Winter Percussion,WL Performances Only
END:VEVENT
BEGIN:VEVENT
DTSTART;VALUE=DATE:20260328
DTEND;VALUE=DATE:20260329
DTSTAMP:20260423T175212
CREATED:20260103T172148Z
LAST-MODIFIED:20260103T172148Z
UID:10002662-1774656000-1774742399@wlbands.com
SUMMARY:IPA State Finals @ ISU
DESCRIPTION:
URL:https://wlbands.com/event/ipa-state-finals-isu/
CATEGORIES:Winter Percussion
END:VEVENT
END:VCALENDAR