BEGIN:VCALENDAR
VERSION:2.0
PRODID:-//West Lafayette Bands - ECPv6.15.20//NONSGML v1.0//EN
CALSCALE:GREGORIAN
METHOD:PUBLISH
X-WR-CALNAME:West Lafayette Bands
X-ORIGINAL-URL:https://wlbands.com
X-WR-CALDESC:Events for West Lafayette Bands
REFRESH-INTERVAL;VALUE=DURATION:PT1H
X-Robots-Tag:noindex
X-PUBLISHED-TTL:PT1H
BEGIN:VTIMEZONE
TZID:America/Indiana/Indianapolis
BEGIN:DAYLIGHT
TZOFFSETFROM:-0500
TZOFFSETTO:-0400
TZNAME:EDT
DTSTART:20230312T070000
END:DAYLIGHT
BEGIN:STANDARD
TZOFFSETFROM:-0400
TZOFFSETTO:-0500
TZNAME:EST
DTSTART:20231105T060000
END:STANDARD
BEGIN:DAYLIGHT
TZOFFSETFROM:-0500
TZOFFSETTO:-0400
TZNAME:EDT
DTSTART:20240310T070000
END:DAYLIGHT
BEGIN:STANDARD
TZOFFSETFROM:-0400
TZOFFSETTO:-0500
TZNAME:EST
DTSTART:20241103T060000
END:STANDARD
BEGIN:DAYLIGHT
TZOFFSETFROM:-0500
TZOFFSETTO:-0400
TZNAME:EDT
DTSTART:20250309T070000
END:DAYLIGHT
BEGIN:STANDARD
TZOFFSETFROM:-0400
TZOFFSETTO:-0500
TZNAME:EST
DTSTART:20251102T060000
END:STANDARD
BEGIN:DAYLIGHT
TZOFFSETFROM:-0500
TZOFFSETTO:-0400
TZNAME:EDT
DTSTART:20260308T070000
END:DAYLIGHT
BEGIN:STANDARD
TZOFFSETFROM:-0400
TZOFFSETTO:-0500
TZNAME:EST
DTSTART:20261101T060000
END:STANDARD
BEGIN:DAYLIGHT
TZOFFSETFROM:-0500
TZOFFSETTO:-0400
TZNAME:EDT
DTSTART:20270314T070000
END:DAYLIGHT
BEGIN:STANDARD
TZOFFSETFROM:-0400
TZOFFSETTO:-0500
TZNAME:EST
DTSTART:20271107T060000
END:STANDARD
END:VTIMEZONE
BEGIN:VEVENT
DTSTART;VALUE=DATE:20260328
DTEND;VALUE=DATE:20260329
DTSTAMP:20260423T192252
CREATED:20260103T172148Z
LAST-MODIFIED:20260103T172148Z
UID:10002662-1774656000-1774742399@wlbands.com
SUMMARY:IPA State Finals @ ISU
DESCRIPTION:
URL:https://wlbands.com/event/ipa-state-finals-isu/
CATEGORIES:Winter Percussion
END:VEVENT
BEGIN:VEVENT
DTSTART;TZID=America/Indiana/Indianapolis:20260325T193000
DTEND;TZID=America/Indiana/Indianapolis:20260325T203000
DTSTAMP:20260423T192252
CREATED:20260103T171827Z
LAST-MODIFIED:20260103T193206Z
UID:10002658-1774467000-1774470600@wlbands.com
SUMMARY:WL Percussion Showcase
DESCRIPTION:A Showcase Concert featuring WL Percussion Students and the WL Winter Percussion Ensemble
URL:https://wlbands.com/event/wl-percussion-showcase/
CATEGORIES:Winter Percussion,WL Performances Only
END:VEVENT
BEGIN:VEVENT
DTSTART;TZID=America/Indiana/Indianapolis:20260325T180000
DTEND;TZID=America/Indiana/Indianapolis:20260325T193000
DTSTAMP:20260423T192252
CREATED:20260103T172706Z
LAST-MODIFIED:20260323T180919Z
UID:10002657-1774461600-1774467000@wlbands.com
SUMMARY:Winter Perc Rehearsal
DESCRIPTION:Update Times after musical
URL:https://wlbands.com/event/winter-perc-rehearsal-5-2/
CATEGORIES:Winter Percussion
END:VEVENT
BEGIN:VEVENT
DTSTART;TZID=America/Indiana/Indianapolis:20260324T173000
DTEND;TZID=America/Indiana/Indianapolis:20260324T193000
DTSTAMP:20260423T192252
CREATED:20260323T180542Z
LAST-MODIFIED:20260323T180542Z
UID:10002736-1774373400-1774380600@wlbands.com
SUMMARY:Winter Perc Rehearsal
DESCRIPTION:
URL:https://wlbands.com/event/winter-perc-rehearsal-7/
CATEGORIES:Winter Percussion
END:VEVENT
BEGIN:VEVENT
DTSTART;TZID=America/Indiana/Indianapolis:20260323T183000
DTEND;TZID=America/Indiana/Indianapolis:20260323T203000
DTSTAMP:20260423T192252
CREATED:20260103T171657Z
LAST-MODIFIED:20260103T172503Z
UID:10002656-1774290600-1774297800@wlbands.com
SUMMARY:Winter Perc Rehearsal
DESCRIPTION:Update Times after musical
URL:https://wlbands.com/event/winter-perc-rehearsal-5/2026-03-23/
CATEGORIES:Winter Percussion
END:VEVENT
BEGIN:VEVENT
DTSTART;VALUE=DATE:20260321
DTEND;VALUE=DATE:20260322
DTSTAMP:20260423T192252
CREATED:20260103T172104Z
LAST-MODIFIED:20260103T172104Z
UID:10002661-1774051200-1774137599@wlbands.com
SUMMARY:IPA State Prelims @ Avon HS
DESCRIPTION:
URL:https://wlbands.com/event/ipa-state-prelims-avon-hs/
CATEGORIES:Winter Percussion
END:VEVENT
BEGIN:VEVENT
DTSTART;TZID=America/Indiana/Indianapolis:20260320T173000
DTEND;TZID=America/Indiana/Indianapolis:20260320T203000
DTSTAMP:20260423T192252
CREATED:20260103T171657Z
LAST-MODIFIED:20260103T172503Z
UID:10002655-1774027800-1774038600@wlbands.com
SUMMARY:Winter Perc Rehearsal
DESCRIPTION:Update Times after musical
URL:https://wlbands.com/event/winter-perc-rehearsal-5/2026-03-20/
CATEGORIES:Winter Percussion
END:VEVENT
BEGIN:VEVENT
DTSTART;TZID=America/Indiana/Indianapolis:20260311T183000
DTEND;TZID=America/Indiana/Indianapolis:20260311T203000
DTSTAMP:20260423T192252
CREATED:20260103T171657Z
LAST-MODIFIED:20260103T172503Z
UID:10002654-1773253800-1773261000@wlbands.com
SUMMARY:Winter Perc Rehearsal
DESCRIPTION:Update Times after musical
URL:https://wlbands.com/event/winter-perc-rehearsal-5/2026-03-11/
CATEGORIES:Winter Percussion
END:VEVENT
BEGIN:VEVENT
DTSTART;TZID=America/Indiana/Indianapolis:20260309T183000
DTEND;TZID=America/Indiana/Indianapolis:20260309T203000
DTSTAMP:20260423T192252
CREATED:20260103T171657Z
LAST-MODIFIED:20260103T172503Z
UID:10002653-1773081000-1773088200@wlbands.com
SUMMARY:Winter Perc Rehearsal
DESCRIPTION:Update Times after musical
URL:https://wlbands.com/event/winter-perc-rehearsal-5/2026-03-09/
CATEGORIES:Winter Percussion
END:VEVENT
BEGIN:VEVENT
DTSTART;TZID=America/Indiana/Indianapolis:20260304T160000
DTEND;TZID=America/Indiana/Indianapolis:20260304T173000
DTSTAMP:20260423T192252
CREATED:20260103T171312Z
LAST-MODIFIED:20260103T171312Z
UID:10002652-1772640000-1772645400@wlbands.com
SUMMARY:Winter Perc Rehearsal
DESCRIPTION:Tech/Show Week for Musical
URL:https://wlbands.com/event/winter-perc-rehearsal-4/2026-03-04/
CATEGORIES:Winter Percussion
END:VEVENT
BEGIN:VEVENT
DTSTART;TZID=America/Indiana/Indianapolis:20260302T160000
DTEND;TZID=America/Indiana/Indianapolis:20260302T173000
DTSTAMP:20260423T192252
CREATED:20260103T171312Z
LAST-MODIFIED:20260103T171312Z
UID:10002651-1772467200-1772472600@wlbands.com
SUMMARY:Winter Perc Rehearsal
DESCRIPTION:Tech/Show Week for Musical
URL:https://wlbands.com/event/winter-perc-rehearsal-4/2026-03-02/
CATEGORIES:Winter Percussion
END:VEVENT
BEGIN:VEVENT
DTSTART;VALUE=DATE:20260228
DTEND;VALUE=DATE:20260301
DTSTAMP:20260423T192252
CREATED:20260103T172013Z
LAST-MODIFIED:20260103T172013Z
UID:10002660-1772236800-1772323199@wlbands.com
SUMMARY:IPA Contest @ Greenfield Central HS
DESCRIPTION:
URL:https://wlbands.com/event/ipa-contest-greenfield-central-hs/
CATEGORIES:Winter Percussion
END:VEVENT
BEGIN:VEVENT
DTSTART;TZID=America/Indiana/Indianapolis:20260225T160000
DTEND;TZID=America/Indiana/Indianapolis:20260225T173000
DTSTAMP:20260423T192252
CREATED:20260103T171312Z
LAST-MODIFIED:20260103T171312Z
UID:10002650-1772035200-1772040600@wlbands.com
SUMMARY:Winter Perc Rehearsal
DESCRIPTION:Tech/Show Week for Musical
URL:https://wlbands.com/event/winter-perc-rehearsal-4/2026-02-25/
CATEGORIES:Winter Percussion
END:VEVENT
BEGIN:VEVENT
DTSTART;TZID=America/Indiana/Indianapolis:20260223T160000
DTEND;TZID=America/Indiana/Indianapolis:20260223T173000
DTSTAMP:20260423T192252
CREATED:20260103T171312Z
LAST-MODIFIED:20260103T171312Z
UID:10002649-1771862400-1771867800@wlbands.com
SUMMARY:Winter Perc Rehearsal
DESCRIPTION:Tech/Show Week for Musical
URL:https://wlbands.com/event/winter-perc-rehearsal-4/2026-02-23/
CATEGORIES:Winter Percussion
END:VEVENT
BEGIN:VEVENT
DTSTART;TZID=America/Indiana/Indianapolis:20260218T191500
DTEND;TZID=America/Indiana/Indianapolis:20260218T204500
DTSTAMP:20260423T192252
CREATED:20260103T161636Z
LAST-MODIFIED:20260126T170503Z
UID:10002735-1771442100-1771447500@wlbands.com
SUMMARY:Winter Perc Rehearsal
DESCRIPTION:
URL:https://wlbands.com/event/winter-perc-rehearsal/2026-02-18/
CATEGORIES:Winter Percussion
END:VEVENT
BEGIN:VEVENT
DTSTART;TZID=America/Indiana/Indianapolis:20260216T170000
DTEND;TZID=America/Indiana/Indianapolis:20260216T193000
DTSTAMP:20260423T192252
CREATED:20260103T171019Z
LAST-MODIFIED:20260103T171020Z
UID:10002647-1771261200-1771270200@wlbands.com
SUMMARY:Winter Perc Rehearsal
DESCRIPTION:
URL:https://wlbands.com/event/winter-perc-rehearsal-3/
CATEGORIES:Winter Percussion
END:VEVENT
BEGIN:VEVENT
DTSTART;VALUE=DATE:20260214
DTEND;VALUE=DATE:20260215
DTSTAMP:20260423T192252
CREATED:20260103T171932Z
LAST-MODIFIED:20260103T171932Z
UID:10002659-1771027200-1771113599@wlbands.com
SUMMARY:IPA Contest @ Noblesville HS
DESCRIPTION:
URL:https://wlbands.com/event/ipa-contest-noblesville-hs/
CATEGORIES:Winter Percussion
END:VEVENT
BEGIN:VEVENT
DTSTART;TZID=America/Indiana/Indianapolis:20260211T191500
DTEND;TZID=America/Indiana/Indianapolis:20260211T204500
DTSTAMP:20260423T192252
CREATED:20260103T161636Z
LAST-MODIFIED:20260126T170503Z
UID:10002733-1770837300-1770842700@wlbands.com
SUMMARY:Winter Perc Rehearsal
DESCRIPTION:
URL:https://wlbands.com/event/winter-perc-rehearsal/2026-02-11/
CATEGORIES:Winter Percussion
END:VEVENT
BEGIN:VEVENT
DTSTART;TZID=America/Indiana/Indianapolis:20260209T191500
DTEND;TZID=America/Indiana/Indianapolis:20260209T204500
DTSTAMP:20260423T192252
CREATED:20260103T161636Z
LAST-MODIFIED:20260126T170503Z
UID:10002732-1770664500-1770669900@wlbands.com
SUMMARY:Winter Perc Rehearsal
DESCRIPTION:
URL:https://wlbands.com/event/winter-perc-rehearsal/2026-02-09/
CATEGORIES:Winter Percussion
END:VEVENT
BEGIN:VEVENT
DTSTART;TZID=America/Indiana/Indianapolis:20260204T191500
DTEND;TZID=America/Indiana/Indianapolis:20260204T204500
DTSTAMP:20260423T192252
CREATED:20260103T161636Z
LAST-MODIFIED:20260126T170503Z
UID:10002731-1770232500-1770237900@wlbands.com
SUMMARY:Winter Perc Rehearsal
DESCRIPTION:
URL:https://wlbands.com/event/winter-perc-rehearsal/2026-02-04/
CATEGORIES:Winter Percussion
END:VEVENT
BEGIN:VEVENT
DTSTART;TZID=America/Indiana/Indianapolis:20260202T191500
DTEND;TZID=America/Indiana/Indianapolis:20260202T204500
DTSTAMP:20260423T192252
CREATED:20260103T161636Z
LAST-MODIFIED:20260126T170503Z
UID:10002730-1770059700-1770065100@wlbands.com
SUMMARY:Winter Perc Rehearsal
DESCRIPTION:
URL:https://wlbands.com/event/winter-perc-rehearsal/2026-02-02/
CATEGORIES:Winter Percussion
END:VEVENT
BEGIN:VEVENT
DTSTART;TZID=America/Indiana/Indianapolis:20260130T184500
DTEND;TZID=America/Indiana/Indianapolis:20260130T204500
DTSTAMP:20260423T192252
CREATED:20260103T161636Z
LAST-MODIFIED:20260126T170503Z
UID:10002715-1769798700-1769805900@wlbands.com
SUMMARY:Winter Perc Rehearsal
DESCRIPTION:
URL:https://wlbands.com/event/winter-perc-rehearsal/2026-01-30/
CATEGORIES:Winter Percussion
END:VEVENT
BEGIN:VEVENT
DTSTART;TZID=America/Indiana/Indianapolis:20260128T184500
DTEND;TZID=America/Indiana/Indianapolis:20260128T204500
DTSTAMP:20260423T192252
CREATED:20260126T170524Z
LAST-MODIFIED:20260126T170525Z
UID:10002729-1769625900-1769633100@wlbands.com
SUMMARY:Winter Perc Rehearsal
DESCRIPTION:
URL:https://wlbands.com/event/winter-perc-rehearsal-6/
CATEGORIES:Winter Percussion
END:VEVENT
BEGIN:VEVENT
DTSTART;TZID=America/Indiana/Indianapolis:20260126T191500
DTEND;TZID=America/Indiana/Indianapolis:20260126T204500
DTSTAMP:20260423T192252
CREATED:20260103T161636Z
LAST-MODIFIED:20260126T170503Z
UID:10002728-1769454900-1769460300@wlbands.com
SUMMARY:Winter Perc Rehearsal
DESCRIPTION:
URL:https://wlbands.com/event/winter-perc-rehearsal/2026-01-26/
CATEGORIES:Winter Percussion
END:VEVENT
BEGIN:VEVENT
DTSTART;TZID=America/Indiana/Indianapolis:20260121T191500
DTEND;TZID=America/Indiana/Indianapolis:20260121T204500
DTSTAMP:20260423T192252
CREATED:20260103T161636Z
LAST-MODIFIED:20260126T170503Z
UID:10002727-1769022900-1769028300@wlbands.com
SUMMARY:Winter Perc Rehearsal
DESCRIPTION:
URL:https://wlbands.com/event/winter-perc-rehearsal/2026-01-21/
CATEGORIES:Winter Percussion
END:VEVENT
BEGIN:VEVENT
DTSTART;TZID=America/Indiana/Indianapolis:20260119T191500
DTEND;TZID=America/Indiana/Indianapolis:20260119T204500
DTSTAMP:20260423T192252
CREATED:20260103T161636Z
LAST-MODIFIED:20260126T170503Z
UID:10002726-1768850100-1768855500@wlbands.com
SUMMARY:Winter Perc Rehearsal
DESCRIPTION:
URL:https://wlbands.com/event/winter-perc-rehearsal/2026-01-19/
CATEGORIES:Winter Percussion
END:VEVENT
BEGIN:VEVENT
DTSTART;TZID=America/Indiana/Indianapolis:20260119T170000
DTEND;TZID=America/Indiana/Indianapolis:20260119T193000
DTSTAMP:20260423T192252
CREATED:20260103T161902Z
LAST-MODIFIED:20260103T161902Z
UID:10002639-1768842000-1768851000@wlbands.com
SUMMARY:Winter Perc Rehearsal
DESCRIPTION:
URL:https://wlbands.com/event/winter-perc-rehearsal-2/
CATEGORIES:Winter Percussion
END:VEVENT
BEGIN:VEVENT
DTSTART;TZID=America/Indiana/Indianapolis:20260114T191500
DTEND;TZID=America/Indiana/Indianapolis:20260114T204500
DTSTAMP:20260423T192252
CREATED:20260103T161636Z
LAST-MODIFIED:20260126T170503Z
UID:10002725-1768418100-1768423500@wlbands.com
SUMMARY:Winter Perc Rehearsal
DESCRIPTION:
URL:https://wlbands.com/event/winter-perc-rehearsal/2026-01-14/
CATEGORIES:Winter Percussion
END:VEVENT
BEGIN:VEVENT
DTSTART;TZID=America/Indiana/Indianapolis:20260112T191500
DTEND;TZID=America/Indiana/Indianapolis:20260112T204500
DTSTAMP:20260423T192252
CREATED:20260103T161636Z
LAST-MODIFIED:20260126T170503Z
UID:10002724-1768245300-1768250700@wlbands.com
SUMMARY:Winter Perc Rehearsal
DESCRIPTION:
URL:https://wlbands.com/event/winter-perc-rehearsal/2026-01-12/
CATEGORIES:Winter Percussion
END:VEVENT
BEGIN:VEVENT
DTSTART;TZID=America/Indiana/Indianapolis:20260107T191500
DTEND;TZID=America/Indiana/Indianapolis:20260107T204500
DTSTAMP:20260423T192252
CREATED:20260103T161636Z
LAST-MODIFIED:20260126T170503Z
UID:10002723-1767813300-1767818700@wlbands.com
SUMMARY:Winter Perc Rehearsal
DESCRIPTION:
URL:https://wlbands.com/event/winter-perc-rehearsal/2026-01-07/
CATEGORIES:Winter Percussion
END:VEVENT
BEGIN:VEVENT
DTSTART;TZID=America/Indiana/Indianapolis:20260105T191500
DTEND;TZID=America/Indiana/Indianapolis:20260105T204500
DTSTAMP:20260423T192252
CREATED:20260103T161636Z
LAST-MODIFIED:20260126T170503Z
UID:10002722-1767640500-1767645900@wlbands.com
SUMMARY:Winter Perc Rehearsal
DESCRIPTION:
URL:https://wlbands.com/event/winter-perc-rehearsal/2026-01-05/
CATEGORIES:Winter Percussion
END:VEVENT
BEGIN:VEVENT
DTSTART;TZID=America/Indiana/Indianapolis:20240511T183000
DTEND;TZID=America/Indiana/Indianapolis:20240511T200000
DTSTAMP:20260423T192252
CREATED:20230726T173113Z
LAST-MODIFIED:20230726T173113Z
UID:10002217-1715452200-1715457600@wlbands.com
SUMMARY:Spring Band Festival
DESCRIPTION:
URL:https://wlbands.com/event/spring-band-festival-3/
CATEGORIES:5th Grade Band,6th Grade Band,7th Grade Band,8th Grade Band,Jazz Ensemble (Jazz I),Symphonic Band,Wind Ensemble,Winter Percussion
END:VEVENT
END:VCALENDAR